BEGIN:VCALENDAR
VERSION:2.0
PRODID:-//Masculinity: Under Construction - ECPv6.15.20//NONSGML v1.0//EN
CALSCALE:GREGORIAN
METHOD:PUBLISH
X-WR-CALNAME:Masculinity: Under Construction
X-ORIGINAL-URL:https://masculinities.info
X-WR-CALDESC:Events for Masculinity: Under Construction
REFRESH-INTERVAL;VALUE=DURATION:PT1H
X-Robots-Tag:noindex
X-PUBLISHED-TTL:PT1H
BEGIN:VTIMEZONE
TZID:America/Toronto
BEGIN:DAYLIGHT
TZOFFSETFROM:-0500
TZOFFSETTO:-0400
TZNAME:EDT
DTSTART:20180311T070000
END:DAYLIGHT
BEGIN:STANDARD
TZOFFSETFROM:-0400
TZOFFSETTO:-0500
TZNAME:EST
DTSTART:20181104T060000
END:STANDARD
BEGIN:DAYLIGHT
TZOFFSETFROM:-0500
TZOFFSETTO:-0400
TZNAME:EDT
DTSTART:20190310T070000
END:DAYLIGHT
BEGIN:STANDARD
TZOFFSETFROM:-0400
TZOFFSETTO:-0500
TZNAME:EST
DTSTART:20191103T060000
END:STANDARD
BEGIN:DAYLIGHT
TZOFFSETFROM:-0500
TZOFFSETTO:-0400
TZNAME:EDT
DTSTART:20200308T070000
END:DAYLIGHT
BEGIN:STANDARD
TZOFFSETFROM:-0400
TZOFFSETTO:-0500
TZNAME:EST
DTSTART:20201101T060000
END:STANDARD
BEGIN:DAYLIGHT
TZOFFSETFROM:-0500
TZOFFSETTO:-0400
TZNAME:EDT
DTSTART:20210314T070000
END:DAYLIGHT
BEGIN:STANDARD
TZOFFSETFROM:-0400
TZOFFSETTO:-0500
TZNAME:EST
DTSTART:20211107T060000
END:STANDARD
END:VTIMEZONE
BEGIN:VEVENT
DTSTART;TZID=America/Toronto:20200321T170000
DTEND;TZID=America/Toronto:20200321T220000
DTSTAMP:20260422T135043
CREATED:20230205T194759Z
LAST-MODIFIED:20230205T194759Z
UID:1381-1584810000-1584828000@masculinities.info
SUMMARY:Dungeons & Dragons with Masculinity: under construction - 3rd edition
DESCRIPTION:Join us for the third adventure! \nSome important logistics: the game is open to folks who signed up for previous games first. The game will be opened up for new players Thursday March 12. New players should make themselves available for creating a character with Ian. \nReserve your spot by communicating through PM with Ian. Also help us by indicating you are coming by reacting “going” to this event (unless you have objections\, then don’t).\n——————————————————————\nJoin us for our third D&D game with a gender lens! \nTable top RPGs are fantastic tools for building empathy\, and taking yourself out of your comfort zone in a safe way! \nWe will play with a narrative that is sensitive to gender dynamics\, and this narrative is written especially for this event by an experienced dungeon master (8 years). \nThe event is open for players of all levels\, as our DM is accustomed to playing with new through veteran players. Bringing some snacks and drinks is encouraged (potluck style). There will be a 10lb dachshund\, she is not hypoallergenic and it can take a few minutes for her to get used to strangers. \nThis event is a success and the DM is willing to make this a returning event! \nPlease note that there is a max of six players. Reserve your spot by emailing: Jan@masculinity.info\nFor more info and reservations:
URL:https://masculinities.info/event/dungeons-dragons-with-masculinity-under-construction-3rd-edition/
LOCATION:To be announced
CATEGORIES:Games
ATTACH;FMTTYPE=image/jpeg:https://masculinities.info/wp-content/uploads/2023/02/DD.jpg
ORGANIZER;CN="Masculinity%3A Under Construction":MAILTO:hey@masculinities.info
END:VEVENT
BEGIN:VEVENT
DTSTART;TZID=America/Toronto:20190922T100000
DTEND;TZID=America/Toronto:20190922T160000
DTSTAMP:20260422T135043
CREATED:20230205T195411Z
LAST-MODIFIED:20230205T195411Z
UID:1397-1569146400-1569168000@masculinities.info
SUMMARY:Dungeons & Dragons with Masculinity: under construction - 2nd edition
DESCRIPTION:Join us to play a D&D game with a gender lens. Table top RPGs are fantastic tools for building empathy\, and taking yourself out of your comfort zone in a safe way! \nWe will play with a narrative that is sensitive to gender dynamics\, and this narrative is written especially for this event by an experienced dungeon master (8 years). \nThe event is open for players of all levels\, as our DM is accustomed to playing with new through veteran players. Bringing some snacks and drinks is encouraged (potluck style). There will be a 10lb dachshund\, she is not hypoallergenic and it can take a few minutes for her to get used to strangers. \nIf this event is a success and if there is enough interest\, the DM is willing to make this a returning event! \nPlease note that there is a max of six players. Reserve your spot by emailing: Jan@masculinity.info
URL:https://masculinities.info/event/dungeons-dragons-with-masculinity-under-construction-2nd-edition/
LOCATION:To be announced
CATEGORIES:Games
ATTACH;FMTTYPE=image/jpeg:https://masculinities.info/wp-content/uploads/2023/02/DD.jpg
ORGANIZER;CN="Masculinity%3A Under Construction":MAILTO:hey@masculinities.info
END:VEVENT
END:VCALENDAR